BEGIN:VCALENDAR
VERSION:2.0
PRODID:-//Hoeksteen Amersfoort - ECPv6.15.20//NONSGML v1.0//EN
CALSCALE:GREGORIAN
METHOD:PUBLISH
X-ORIGINAL-URL:https://hoeksteenamersfoort.nl
X-WR-CALDESC:Evenementen voor Hoeksteen Amersfoort
REFRESH-INTERVAL;VALUE=DURATION:PT1H
X-Robots-Tag:noindex
X-PUBLISHED-TTL:PT1H
BEGIN:VTIMEZONE
TZID:Europe/Amsterdam
BEGIN:DAYLIGHT
TZOFFSETFROM:+0100
TZOFFSETTO:+0200
TZNAME:CEST
DTSTART:20250330T010000
END:DAYLIGHT
BEGIN:STANDARD
TZOFFSETFROM:+0200
TZOFFSETTO:+0100
TZNAME:CET
DTSTART:20251026T010000
END:STANDARD
BEGIN:DAYLIGHT
TZOFFSETFROM:+0100
TZOFFSETTO:+0200
TZNAME:CEST
DTSTART:20260329T010000
END:DAYLIGHT
BEGIN:STANDARD
TZOFFSETFROM:+0200
TZOFFSETTO:+0100
TZNAME:CET
DTSTART:20261025T010000
END:STANDARD
BEGIN:DAYLIGHT
TZOFFSETFROM:+0100
TZOFFSETTO:+0200
TZNAME:CEST
DTSTART:20270328T010000
END:DAYLIGHT
BEGIN:STANDARD
TZOFFSETFROM:+0200
TZOFFSETTO:+0100
TZNAME:CET
DTSTART:20271031T010000
END:STANDARD
END:VTIMEZONE
BEGIN:VEVENT
DTSTART;TZID=Europe/Amsterdam:20260323T193000
DTEND;TZID=Europe/Amsterdam:20260323T200000
DTSTAMP:20260421T175308
CREATED:20251209T190718Z
LAST-MODIFIED:20251209T190718Z
UID:10764-1774294200-1774296000@hoeksteenamersfoort.nl
SUMMARY:Inspiratiemoment
DESCRIPTION:De week beginnen met een half uur bezinning op verschillende manieren.
URL:https://hoeksteenamersfoort.nl/activiteitenoverzicht/inspiratiemoment-32/
CATEGORIES:Inspiratie
END:VEVENT
BEGIN:VEVENT
DTSTART;TZID=Europe/Amsterdam:20260406T193000
DTEND;TZID=Europe/Amsterdam:20260406T200000
DTSTAMP:20260421T175308
CREATED:20260327T130405Z
LAST-MODIFIED:20260327T130405Z
UID:10904-1775503800-1775505600@hoeksteenamersfoort.nl
SUMMARY:Inspiratiemoment
DESCRIPTION:De week beginnen met een half uur bezinning op verschillende manieren.
URL:https://hoeksteenamersfoort.nl/activiteitenoverzicht/inspiratiemoment-34/
CATEGORIES:Inspiratie
END:VEVENT
BEGIN:VEVENT
DTSTART;TZID=Europe/Amsterdam:20260413T193000
DTEND;TZID=Europe/Amsterdam:20260413T200000
DTSTAMP:20260421T175308
CREATED:20260327T130405Z
LAST-MODIFIED:20260327T130405Z
UID:10905-1776108600-1776110400@hoeksteenamersfoort.nl
SUMMARY:Inspiratiemoment
DESCRIPTION:De week beginnen met een half uur bezinning op verschillende manieren.
URL:https://hoeksteenamersfoort.nl/activiteitenoverzicht/inspiratiemoment-35/
CATEGORIES:Inspiratie
END:VEVENT
BEGIN:VEVENT
DTSTART;TZID=Europe/Amsterdam:20260420T193000
DTEND;TZID=Europe/Amsterdam:20260420T200000
DTSTAMP:20260421T175308
CREATED:20260327T130405Z
LAST-MODIFIED:20260327T130405Z
UID:10906-1776713400-1776715200@hoeksteenamersfoort.nl
SUMMARY:Inspiratiemoment
DESCRIPTION:De week beginnen met een half uur bezinning op verschillende manieren.
URL:https://hoeksteenamersfoort.nl/activiteitenoverzicht/inspiratiemoment-36/
CATEGORIES:Inspiratie
END:VEVENT
BEGIN:VEVENT
DTSTART;TZID=Europe/Amsterdam:20260427T193000
DTEND;TZID=Europe/Amsterdam:20260427T200000
DTSTAMP:20260421T175308
CREATED:20260327T130405Z
LAST-MODIFIED:20260327T130405Z
UID:10907-1777318200-1777320000@hoeksteenamersfoort.nl
SUMMARY:Inspiratiemoment
DESCRIPTION:De week beginnen met een half uur bezinning op verschillende manieren.
URL:https://hoeksteenamersfoort.nl/activiteitenoverzicht/inspiratiemoment-37/
CATEGORIES:Inspiratie
END:VEVENT
BEGIN:VEVENT
DTSTART;TZID=Europe/Amsterdam:20260504T193000
DTEND;TZID=Europe/Amsterdam:20260504T200000
DTSTAMP:20260421T175308
CREATED:20260327T130405Z
LAST-MODIFIED:20260327T130405Z
UID:10908-1777923000-1777924800@hoeksteenamersfoort.nl
SUMMARY:Inspiratiemoment
DESCRIPTION:De week beginnen met een half uur bezinning op verschillende manieren.
URL:https://hoeksteenamersfoort.nl/activiteitenoverzicht/inspiratiemoment-38/
CATEGORIES:Inspiratie
END:VEVENT
BEGIN:VEVENT
DTSTART;TZID=Europe/Amsterdam:20260511T193000
DTEND;TZID=Europe/Amsterdam:20260511T200000
DTSTAMP:20260421T175308
CREATED:20260327T130605Z
LAST-MODIFIED:20260327T130605Z
UID:10909-1778527800-1778529600@hoeksteenamersfoort.nl
SUMMARY:Inspiratiemoment
DESCRIPTION:De week beginnen met een half uur bezinning op verschillende manieren.
URL:https://hoeksteenamersfoort.nl/activiteitenoverzicht/inspiratiemoment-39/
CATEGORIES:Inspiratie
END:VEVENT
BEGIN:VEVENT
DTSTART;TZID=Europe/Amsterdam:20260518T193000
DTEND;TZID=Europe/Amsterdam:20260518T200000
DTSTAMP:20260421T175308
CREATED:20260327T130605Z
LAST-MODIFIED:20260327T130605Z
UID:10910-1779132600-1779134400@hoeksteenamersfoort.nl
SUMMARY:Inspiratiemoment
DESCRIPTION:De week beginnen met een half uur bezinning op verschillende manieren.
URL:https://hoeksteenamersfoort.nl/activiteitenoverzicht/inspiratiemoment-40/
CATEGORIES:Inspiratie
END:VEVENT
BEGIN:VEVENT
DTSTART;TZID=Europe/Amsterdam:20260525T193000
DTEND;TZID=Europe/Amsterdam:20260525T200000
DTSTAMP:20260421T175308
CREATED:20260327T130605Z
LAST-MODIFIED:20260327T130605Z
UID:10911-1779737400-1779739200@hoeksteenamersfoort.nl
SUMMARY:Inspiratiemoment
DESCRIPTION:De week beginnen met een half uur bezinning op verschillende manieren.
URL:https://hoeksteenamersfoort.nl/activiteitenoverzicht/inspiratiemoment-41/
CATEGORIES:Inspiratie
END:VEVENT
BEGIN:VEVENT
DTSTART;TZID=Europe/Amsterdam:20260601T193000
DTEND;TZID=Europe/Amsterdam:20260601T200000
DTSTAMP:20260421T175308
CREATED:20260327T130605Z
LAST-MODIFIED:20260327T130605Z
UID:10912-1780342200-1780344000@hoeksteenamersfoort.nl
SUMMARY:Inspiratiemoment
DESCRIPTION:De week beginnen met een half uur bezinning op verschillende manieren.
URL:https://hoeksteenamersfoort.nl/activiteitenoverzicht/inspiratiemoment-42/
CATEGORIES:Inspiratie
END:VEVENT
BEGIN:VEVENT
DTSTART;TZID=Europe/Amsterdam:20260608T193000
DTEND;TZID=Europe/Amsterdam:20260608T200000
DTSTAMP:20260421T175308
CREATED:20260327T130605Z
LAST-MODIFIED:20260327T130605Z
UID:10913-1780947000-1780948800@hoeksteenamersfoort.nl
SUMMARY:Inspiratiemoment
DESCRIPTION:De week beginnen met een half uur bezinning op verschillende manieren.
URL:https://hoeksteenamersfoort.nl/activiteitenoverzicht/inspiratiemoment-43/
CATEGORIES:Inspiratie
END:VEVENT
END:VCALENDAR