BEGIN:VCALENDAR
VERSION:2.0
PRODID:-//Hoeksteen Amersfoort - ECPv6.15.20//NONSGML v1.0//EN
CALSCALE:GREGORIAN
METHOD:PUBLISH
X-ORIGINAL-URL:https://hoeksteenamersfoort.nl
X-WR-CALDESC:Evenementen voor Hoeksteen Amersfoort
REFRESH-INTERVAL;VALUE=DURATION:PT1H
X-Robots-Tag:noindex
X-PUBLISHED-TTL:PT1H
BEGIN:VTIMEZONE
TZID:Europe/Amsterdam
BEGIN:DAYLIGHT
TZOFFSETFROM:+0100
TZOFFSETTO:+0200
TZNAME:CEST
DTSTART:20250330T010000
END:DAYLIGHT
BEGIN:STANDARD
TZOFFSETFROM:+0200
TZOFFSETTO:+0100
TZNAME:CET
DTSTART:20251026T010000
END:STANDARD
BEGIN:DAYLIGHT
TZOFFSETFROM:+0100
TZOFFSETTO:+0200
TZNAME:CEST
DTSTART:20260329T010000
END:DAYLIGHT
BEGIN:STANDARD
TZOFFSETFROM:+0200
TZOFFSETTO:+0100
TZNAME:CET
DTSTART:20261025T010000
END:STANDARD
BEGIN:DAYLIGHT
TZOFFSETFROM:+0100
TZOFFSETTO:+0200
TZNAME:CEST
DTSTART:20270328T010000
END:DAYLIGHT
BEGIN:STANDARD
TZOFFSETFROM:+0200
TZOFFSETTO:+0100
TZNAME:CET
DTSTART:20271031T010000
END:STANDARD
END:VTIMEZONE
BEGIN:VEVENT
DTSTART;TZID=Europe/Amsterdam:20260331T193000
DTEND;TZID=Europe/Amsterdam:20260331T203000
DTSTAMP:20260421T190321
CREATED:20260327T130007Z
LAST-MODIFIED:20260327T130007Z
UID:10895-1774985400-1774989000@hoeksteenamersfoort.nl
SUMMARY:Vesper stille week met Ds. Lydia Kansen
DESCRIPTION:Vesper in de stille week
URL:https://hoeksteenamersfoort.nl/activiteitenoverzicht/vesper-stille-week-met-ds-lydia-kansen/
CATEGORIES:Bijzondere dienst
END:VEVENT
BEGIN:VEVENT
DTSTART;TZID=Europe/Amsterdam:20260401T193000
DTEND;TZID=Europe/Amsterdam:20260401T203000
DTSTAMP:20260421T190322
CREATED:20260327T130007Z
LAST-MODIFIED:20260327T130007Z
UID:10896-1775071800-1775075400@hoeksteenamersfoort.nl
SUMMARY:Vesper stille week met Ds. Albert Balk
DESCRIPTION:Vesper in de stille week
URL:https://hoeksteenamersfoort.nl/activiteitenoverzicht/vesper-stille-week-met-ds-albert-balk/
CATEGORIES:Bijzondere dienst
END:VEVENT
BEGIN:VEVENT
DTSTART;TZID=Europe/Amsterdam:20260402T193000
DTEND;TZID=Europe/Amsterdam:20260402T203000
DTSTAMP:20260421T190322
CREATED:20260327T130007Z
LAST-MODIFIED:20260327T130007Z
UID:10897-1775158200-1775161800@hoeksteenamersfoort.nl
SUMMARY:Vesper witte donderdag in de Bron
DESCRIPTION:Vesper op witte donderdag in de Bron (Heilig avondmaal). Aansluitend aan de viering is er gelegenheid om in De Bron samen te\nkijken naar The Passion.
URL:https://hoeksteenamersfoort.nl/activiteitenoverzicht/vesper-witte-donderdag-in-de-bron/
CATEGORIES:Bijzondere dienst
END:VEVENT
BEGIN:VEVENT
DTSTART;TZID=Europe/Amsterdam:20260403T193000
DTEND;TZID=Europe/Amsterdam:20260403T203000
DTSTAMP:20260421T190322
CREATED:20260106T191547Z
LAST-MODIFIED:20260106T191830Z
UID:10833-1775244600-1775248200@hoeksteenamersfoort.nl
SUMMARY:Dienst Goede vrijdag met Ds. Lydia Kansen
DESCRIPTION:Dienst op Goede vrijdag
URL:https://hoeksteenamersfoort.nl/activiteitenoverzicht/dienst-goede-vrijdag-met-ds-lydia-kansen/
CATEGORIES:Bijzondere dienst
END:VEVENT
BEGIN:VEVENT
DTSTART;TZID=Europe/Amsterdam:20260404T220000
DTEND;TZID=Europe/Amsterdam:20260404T230000
DTSTAMP:20260421T190322
CREATED:20260106T191547Z
LAST-MODIFIED:20260106T191547Z
UID:10834-1775340000-1775343600@hoeksteenamersfoort.nl
SUMMARY:Paaswake in De Bron
DESCRIPTION:Vanavond is een Paaswake in De Bron Vogelplein 1 3815 GV Amersfoort
URL:https://hoeksteenamersfoort.nl/activiteitenoverzicht/paaswake-in-de-bron/
CATEGORIES:Bijzondere dienst
END:VEVENT
BEGIN:VEVENT
DTSTART;TZID=Europe/Amsterdam:20260405T100000
DTEND;TZID=Europe/Amsterdam:20260405T113000
DTSTAMP:20260421T190322
CREATED:20260106T191746Z
LAST-MODIFIED:20260106T191746Z
UID:10835-1775383200-1775388600@hoeksteenamersfoort.nl
SUMMARY:Zondagse dienst met Ds. Lydia Kansen
DESCRIPTION:Dienst op 1ste Paasdag. Elke zondagmorgen is er een dienst waar jong en oud welkom is. Er is opvang voor de allerkleinsten en kinderdienst voor basisschoolkinderen. Na de dienst drinken we samen koffie of thee en is er gelegenheid elkaar te ontmoeten.
URL:https://hoeksteenamersfoort.nl/activiteitenoverzicht/zondagse-dienst-met-ds-lydia-kansen-13/
CATEGORIES:Bijzondere dienst
END:VEVENT
END:VCALENDAR